BEGIN:VCALENDAR
VERSION:2.0
PRODID:-//ChamberMaster//Event Calendar 2.0//EN
METHOD:PUBLISH
X-PUBLISHED-TTL:P3D
REFRESH-INTERVAL:P3D
CALSCALE:GREGORIAN
BEGIN:VEVENT
DTSTART:20211029T233000Z
DTEND:20211031T030000Z
X-MICROSOFT-CDO-ALLDAYEVENT:FALSE
SUMMARY:Pavo Haunted House
DESCRIPTION:Best kept secret in the south! A multi themed haunted house fan voted in the top two in the state for years and top 30 in the country. Don't miss the last 2 nights of this season.
X-ALT-DESC;FMTTYPE=text/html:Best kept secret in the south! A multi themed haunted house fan voted in the top two in the state for years and top 30 in the country. Don&rsquo\;t miss the last 2 nights of this season.
LOCATION:2061 W McDonald St Pavo\, GA 31778
UID:e.570.11966
SEQUENCE:3
DTSTAMP:20260424T031506Z
URL:http://business.moultriechamber.com/events/details/pavo-haunted-house-10-29-2021-11966
END:VEVENT

END:VCALENDAR
