BEGIN:VCALENDAR
VERSION:2.0
PRODID:-//ChamberMaster//Event Calendar 2.0//EN
METHOD:PUBLISH
X-PUBLISHED-TTL:P3D
REFRESH-INTERVAL:P3D
CALSCALE:GREGORIAN
BEGIN:VEVENT
DTSTART:20181005T233000Z
DTEND:20181028T030000Z
X-MICROSOFT-CDO-ALLDAYEVENT:FALSE
SUMMARY:Pavo Haunted House
DESCRIPTION:FRIDAY & SATURDAY'S ONLY IN OCTOBER
X-ALT-DESC;FMTTYPE=text/html:FRIDAY&nbsp\;&amp\; SATURDAY&#39\;S ONLY IN OCTOBER
LOCATION:Old Pavo School at 2061 McDonald Street\, Pavo\, GA
UID:e.570.9380
SEQUENCE:3
DTSTAMP:20260426T005200Z
URL:http://business.moultriechamber.com/events/details/pavo-haunted-house-10-05-2018-9380
END:VEVENT

END:VCALENDAR
