BEGIN:VCALENDAR
VERSION:2.0
PRODID:-//ChamberMaster//Event Calendar 2.0//EN
METHOD:PUBLISH
X-PUBLISHED-TTL:P3D
REFRESH-INTERVAL:P3D
CALSCALE:GREGORIAN
BEGIN:VEVENT
DTSTART:20211001T233000Z
DTEND:20211003T030000Z
X-MICROSOFT-CDO-ALLDAYEVENT:FALSE
SUMMARY:Pavo Haunted House
DESCRIPTION:Multi-themed haunted house.
X-ALT-DESC;FMTTYPE=text/html:Multi-themed haunted house.
LOCATION:2061 W McDonald St Pavo\, GA 31778
UID:e.570.11953
SEQUENCE:3
DTSTAMP:20260424T042850Z
URL:http://business.moultriechamber.com/events/details/pavo-haunted-house-10-01-2021-11953
END:VEVENT

END:VCALENDAR
