BEGIN:VCALENDAR
VERSION:2.0
PRODID:-//ChamberMaster//Event Calendar 2.0//EN
METHOD:PUBLISH
X-PUBLISHED-TTL:P3D
REFRESH-INTERVAL:P3D
CALSCALE:GREGORIAN
BEGIN:VEVENT
DTSTART;VALUE=DATE:20210729
DTEND;VALUE=DATE:20210730
TRANSP:TRANSPARENT
X-MICROSOFT-CDO-ALLDAYEVENT:TRUE
SUMMARY:Partnering for a Healthy Community: Addiction\, Prevention and Recovery
DESCRIPTION:Drug and alcohol addiction is a growing problem in our community\, affecting youth and adults alike. COVID 19 has further exacerbated these difficulties\, exposing increased vulnerability and gaps in services. Isolation mandates\, while necessary\, created barriers to accessing existing resources. The goal of this forum is to highlight prevention strategies and to showcase recovery resources.
X-ALT-DESC;FMTTYPE=text/html:Drug and alcohol addiction is a growing problem in our community\, affecting youth and adults alike. COVID 19 has further exacerbated these difficulties\, exposing increased vulnerability and gaps in services. Isolation mandates\, while necessary\, created barriers to accessing existing resources. The goal of this forum is to highlight prevention strategies and to showcase recovery resources.
LOCATION:Conference Center at Southern Regional Technical College\, 800 North Veterans Parkway\, Moultrie\, GA 31768
UID:e.570.11604
SEQUENCE:3
DTSTAMP:20260424T065830Z
URL:http://business.moultriechamber.com/events/details/partnering-for-a-healthy-community-addiction-prevention-and-recovery-11604
END:VEVENT

END:VCALENDAR
