BEGIN:VCALENDAR
VERSION:2.0
PRODID:-//ChamberMaster//Event Calendar 2.0//EN
METHOD:PUBLISH
X-PUBLISHED-TTL:P3D
REFRESH-INTERVAL:P3D
CALSCALE:GREGORIAN
BEGIN:VEVENT
DTSTART:20240608T143000Z
DTEND:20240608T163000Z
X-MICROSOFT-CDO-ALLDAYEVENT:FALSE
SUMMARY:Painting with Sally Shovar at the Library
DESCRIPTION:Decorate a free tote bag\, an 8X10 canvas\, or one of your own t-shirts using stencils and fabric paints with Sally Shovar.
X-ALT-DESC;FMTTYPE=text/html:Decorate a free tote bag\, an 8X10 canvas\, or one of your own t-shirts using stencils and fabric paints with Sally Shovar.
LOCATION:Moultrie-Colquitt County Library 204 5th ST St\, SE\, Moultrie\, GA
UID:e.570.13289
SEQUENCE:3
DTSTAMP:20260422T120016Z
URL:http://business.moultriechamber.com/events/details/painting-with-sally-shovar-at-the-library-13289
END:VEVENT

END:VCALENDAR
