BEGIN:VCALENDAR
VERSION:2.0
PRODID:-//ChamberMaster//Event Calendar 2.0//EN
METHOD:PUBLISH
X-PUBLISHED-TTL:P3D
REFRESH-INTERVAL:P3D
CALSCALE:GREGORIAN
BEGIN:VEVENT
DTSTART:20190330T213000Z
DTEND:20190330T230000Z
X-MICROSOFT-CDO-ALLDAYEVENT:FALSE
SUMMARY:Painted Stick Wall Hanging Workshop
DESCRIPTION:April 30: Painted Sticks Wall Hanging 5:30 pm   7:00 pm Open to Adults and Children (with adult present to assist) Instructor: Ashlee Parrish and Kim Yarbrough Create a beautiful piece of art to hang inside or outside your home or paint sticks to decorate your garden. We'll have a variety of sticks\, paint colors\, twine and yarn for you\, but please bring any items you wish to use\, including sticks!
X-ALT-DESC;FMTTYPE=text/html:April 30: Painted Sticks Wall Hanging 5:30 pm &ndash\; 7:00 pm Open to Adults and Children (with adult present to assist) Instructor: Ashlee Parrish and Kim Yarbrough Create a beautiful piece of art to hang inside or outside your home or paint sticks to decorate your garden. We&rsquo\;ll have a variety of sticks\, paint colors\, twine and yarn for you\, but please bring any items you wish to use\, including sticks!
LOCATION:Colquitt County Arts Center 401 7th Ave. SW
UID:e.570.9530
SEQUENCE:3
DTSTAMP:20260421T083720Z
URL:http://business.moultriechamber.com/events/details/painted-stick-wall-hanging-workshop-9530
END:VEVENT

END:VCALENDAR
