BEGIN:VCALENDAR
VERSION:2.0
PRODID:-//ChamberMaster//Event Calendar 2.0//EN
METHOD:PUBLISH
X-PUBLISHED-TTL:P3D
REFRESH-INTERVAL:P3D
CALSCALE:GREGORIAN
BEGIN:VEVENT
DTSTART:20201109T210000Z
DTEND:20201109T221500Z
X-MICROSOFT-CDO-ALLDAYEVENT:FALSE
SUMMARY:Painted Planter Jack-o’-Lantern Workshop
DESCRIPTION:Create a pumpkin that will last forever with this unique planter. Customize the design to fit your style. Planter and all supplies are provided. Monday\, November 9th 4:00 pm   5:15 pm All Ages $30 all supplies provided Instructor Rio Davies Sign up online: https://colquittcountyarts.com/monthly-workshop-registration/
X-ALT-DESC;FMTTYPE=text/html:Create a pumpkin that will last forever with this unique planter. Customize the design to fit your style. Planter and all supplies are provided. Monday\, November 9th 4:00 pm &ndash\; 5:15 pm All Ages $30 all supplies provided Instructor Rio Davies Sign up online: https://colquittcountyarts.com/monthly-workshop-registration/
LOCATION:Colquitt County Arts Center 401 7th Avenue S.W. Moultrie\, GA 31768
UID:e.570.11221
SEQUENCE:3
DTSTAMP:20260424T162756Z
URL:http://business.moultriechamber.com/events/details/painted-planter-jack-o-lantern-workshop-11221
END:VEVENT

END:VCALENDAR
