BEGIN:VCALENDAR
VERSION:2.0
PRODID:-//ChamberMaster//Event Calendar 2.0//EN
METHOD:PUBLISH
X-PUBLISHED-TTL:P3D
REFRESH-INTERVAL:P3D
CALSCALE:GREGORIAN
BEGIN:VEVENT
DTSTART:20180809T143000Z
DTEND:20180810T000000Z
X-MICROSOFT-CDO-ALLDAYEVENT:FALSE
SUMMARY:Paint A Door Hanger-FOOTBALL
DESCRIPTION:Get ready for some football and show your Team Spirit!! Paint a Football Door hanger to keep or give as a gift.
X-ALT-DESC;FMTTYPE=text/html:Get ready for some football and show your Team Spirit!! Paint a Football Door hanger to keep or give as a gift.
LOCATION:Colquitt County Arts Center
UID:e.570.9299
SEQUENCE:3
DTSTAMP:20260426T032718Z
URL:http://business.moultriechamber.com/events/details/paint-a-door-hanger-football-9299
END:VEVENT

END:VCALENDAR
