BEGIN:VCALENDAR
VERSION:2.0
PRODID:-//ChamberMaster//Event Calendar 2.0//EN
METHOD:PUBLISH
X-PUBLISHED-TTL:P3D
REFRESH-INTERVAL:P3D
CALSCALE:GREGORIAN
BEGIN:VEVENT
DTSTART:20200811T220000Z
DTEND:20200811T233000Z
X-MICROSOFT-CDO-ALLDAYEVENT:FALSE
SUMMARY:Outdoor Education With Charlie: DIY Fish hooks and Poles
DESCRIPTION:The DIY Fish Hooks and Poles outdoor education activity encourages wilderness survival skills and techniques\, along with a fun way to show the utility of recycling and using the resources available in a survival situation. By using a soda-can tab and minimal tools\, campers\, with adult supervision and assistance\, will manipulate the can tab and make their own hooks. Using the crafted hooks and fishing pole\, campers will then Go fishing at the Magnolia Pond.
X-ALT-DESC;FMTTYPE=text/html:The DIY Fish Hooks and Poles outdoor education activity encourages wilderness survival skills and techniques\, along with a fun way to show the utility of recycling and using the resources available in a survival situation. By using a soda-can tab and minimal tools\, campers\, with adult supervision and assistance\, will manipulate the can tab and make their own hooks. Using the crafted hooks and fishing pole\, campers will then Go fishing at the Magnolia Pond.
LOCATION:Magnolia Pond
UID:e.570.11174
SEQUENCE:3
DTSTAMP:20260424T201001Z
URL:http://business.moultriechamber.com/events/details/outdoor-education-with-charlie-diy-fish-hooks-and-poles-11174
END:VEVENT

END:VCALENDAR
