BEGIN:VCALENDAR
VERSION:2.0
PRODID:-//ChamberMaster//Event Calendar 2.0//EN
METHOD:PUBLISH
X-PUBLISHED-TTL:P3D
REFRESH-INTERVAL:P3D
CALSCALE:GREGORIAN
BEGIN:VEVENT
DTSTART:20200813T220000Z
DTEND:20200813T230000Z
X-MICROSOFT-CDO-ALLDAYEVENT:FALSE
SUMMARY:Outdoor Education with Charlie: Carving Arrowheads from soap
DESCRIPTION:The Arrowhead Activity gives campers an engaging and safe way to craft their own traditional Native American arrowheads\, along with learning and celebrating Native American culture. The lesson will begin with a short introduction talking about the importance of arrowheads and stone tools in Native American society\, and their role in hunting and foraging. After this\, campers will be given plastic cutlery and a bar of soap which they will carve and whittle to make their own arrowhead.
X-ALT-DESC;FMTTYPE=text/html:The Arrowhead Activity gives campers an engaging and safe way to craft their own traditional Native American arrowheads\, along with learning and celebrating Native American culture. The lesson will begin with a short introduction talking about the importance of arrowheads and stone tools in Native American society\, and their role in hunting and foraging. After this\, campers will be given plastic cutlery and a bar of soap which they will carve and whittle to make their own arrowhead.
LOCATION:Main Street Park
UID:e.570.11175
SEQUENCE:3
DTSTAMP:20260424T201237Z
URL:http://business.moultriechamber.com/events/details/outdoor-education-with-charlie-carving-arrowheads-from-soap-11175
END:VEVENT

END:VCALENDAR
