BEGIN:VCALENDAR
VERSION:2.0
PRODID:-//ChamberMaster//Event Calendar 2.0//EN
METHOD:PUBLISH
X-PUBLISHED-TTL:P3D
REFRESH-INTERVAL:P3D
CALSCALE:GREGORIAN
BEGIN:VEVENT
DTSTART;VALUE=DATE:20190511
DTEND;VALUE=DATE:20190512
TRANSP:TRANSPARENT
X-MICROSOFT-CDO-ALLDAYEVENT:TRUE
SUMMARY:Our Wish Run for Cystic Fibrosis
DESCRIPTION:Sixth Annual 5k and 1 mile fun run\n\n\n\nRegistration and Packet pIck-up begin at 7:30\n\n5K begins at 8:30\n\nFun run to follow\n\n\n\n3 wyas to register\n\n\n\nOnline at passion.cff.org/our-wish-run-for-cf\n\nor\n\n3pm-6pm Friday\, May 10 at Southern Regional\n\nor\n\n7:45am on the day of the race
X-ALT-DESC;FMTTYPE=text/html:Sixth Annual 5k and 1 mile fun run<br />\n<br />\nRegistration and Packet pIck-up begin at 7:30<br />\n5K begins at 8:30<br />\nFun run to follow<br />\n<br />\n3 wyas to register<br />\n<br />\nOnline at passion.cff.org/our-wish-run-for-cf<br />\nor<br />\n3pm-6pm Friday\, May 10 at Southern Regional<br />\nor<br />\n7:45am on the day of the race
LOCATION:343 Darbyshire Road\, Moultrie Ga 31768
UID:e.570.9548
SEQUENCE:3
DTSTAMP:20260425T154049Z
URL:http://business.moultriechamber.com/events/details/our-wish-run-for-cystic-fibrosis-9548
END:VEVENT

END:VCALENDAR
