BEGIN:VCALENDAR
VERSION:2.0
PRODID:-//ChamberMaster//Event Calendar 2.0//EN
METHOD:PUBLISH
X-PUBLISHED-TTL:P3D
REFRESH-INTERVAL:P3D
CALSCALE:GREGORIAN
BEGIN:VEVENT
DTSTART:20200718T230000Z
DTEND:20200719T003000Z
X-MICROSOFT-CDO-ALLDAYEVENT:FALSE
SUMMARY:Open Mic Night
DESCRIPTION:Share your music with an audience of other songwriters. Discuss songwriting techniques and the stories behind the music. Open Mic Saturday\, July 18th 7:00 pm   8:30 pm Free Events are open to any musicians who wish to participate and of course to anyone who would like to attend and enjoy. Events are open to any musicians who wish to participate and of course to anyone who would like to attend and enjoy. There is no cost to participate\, however\, if you are interested in participating in either event please call the Arts Center at 985-1922 to register.
X-ALT-DESC;FMTTYPE=text/html:Share your music with an audience of other songwriters. Discuss songwriting techniques and the stories behind the music. Open Mic Saturday\, July 18th 7:00 pm &ndash\; 8:30 pm Free Events are open to any musicians who wish to participate and of course to anyone who would like to attend and enjoy. Events are open to any musicians who wish to participate and of course to anyone who would like to attend and enjoy. There is no cost to participate\, however\, if you are interested in participating in either event please call the Arts Center at 985-1922 to register.
LOCATION:Colquitt County Arts Center 401 7th Avenue S.W. Moultrie\, GA 31768
UID:e.570.11161
SEQUENCE:3
DTSTAMP:20260424T211559Z
URL:http://business.moultriechamber.com/events/details/open-mic-night-11161
END:VEVENT

END:VCALENDAR
