BEGIN:VCALENDAR
VERSION:2.0
PRODID:-//ChamberMaster//Event Calendar 2.0//EN
METHOD:PUBLISH
X-PUBLISHED-TTL:P3D
REFRESH-INTERVAL:P3D
CALSCALE:GREGORIAN
BEGIN:VEVENT
DTSTART:20220513T140000Z
DTEND:20220513T150000Z
X-MICROSOFT-CDO-ALLDAYEVENT:FALSE
SUMMARY:Open Interviews at the Y Every Friday
DESCRIPTION:Open interviews at 10am - 11am every friday! Bring a cover letter and resume!
X-ALT-DESC;FMTTYPE=text/html:Open interviews at 10am - 11am every friday! Bring a cover letter and resume!&nbsp\;
LOCATION:
UID:e.570.11649
SEQUENCE:3
DTSTAMP:20260423T181913Z
URL:http://business.moultriechamber.com/events/details/open-interviews-at-the-y-every-friday-05-13-2022-11649
END:VEVENT

END:VCALENDAR
