BEGIN:VCALENDAR
VERSION:2.0
PRODID:-//ChamberMaster//Event Calendar 2.0//EN
METHOD:PUBLISH
X-PUBLISHED-TTL:P3D
REFRESH-INTERVAL:P3D
CALSCALE:GREGORIAN
BEGIN:VEVENT
DTSTART:20180802T200000Z
DTEND:20180802T230000Z
X-MICROSOFT-CDO-ALLDAYEVENT:FALSE
SUMMARY:Open House for GEAR Gifted Center
DESCRIPTION:Open House for GEAR Gifted Center.
X-ALT-DESC;FMTTYPE=text/html:Open House for GEAR Gifted Center.
LOCATION:GEAR Gifted Center\, 710 Lane Street\, Moultrie\, GA
UID:e.570.9356
SEQUENCE:3
DTSTAMP:20260426T032530Z
URL:http://business.moultriechamber.com/events/details/open-house-for-gear-gifted-center-9356
END:VEVENT

END:VCALENDAR
