BEGIN:VCALENDAR
VERSION:2.0
PRODID:-//ChamberMaster//Event Calendar 2.0//EN
METHOD:PUBLISH
X-PUBLISHED-TTL:P3D
REFRESH-INTERVAL:P3D
CALSCALE:GREGORIAN
BEGIN:VEVENT
DTSTART:20180802T210000Z
DTEND:20180802T230000Z
X-MICROSOFT-CDO-ALLDAYEVENT:FALSE
SUMMARY:Open House for Elementary Schools (PreK-5th Grades)
DESCRIPTION:Open House for Colquitt County Elementary Schools\, grades PreK - 5th.
X-ALT-DESC;FMTTYPE=text/html:Open House for Colquitt County Elementary Schools\, grades PreK - 5th.
LOCATION:Various Colquitt County Elementary Schools
UID:e.570.9352
SEQUENCE:3
DTSTAMP:20260426T032151Z
URL:http://business.moultriechamber.com/events/details/open-house-for-elementary-schools-prek-5th-grades-9352
END:VEVENT

END:VCALENDAR
