BEGIN:VCALENDAR
VERSION:2.0
PRODID:-//ChamberMaster//Event Calendar 2.0//EN
METHOD:PUBLISH
X-PUBLISHED-TTL:P3D
REFRESH-INTERVAL:P3D
CALSCALE:GREGORIAN
BEGIN:VEVENT
DTSTART:20180802T190000Z
DTEND:20180802T220000Z
X-MICROSOFT-CDO-ALLDAYEVENT:FALSE
SUMMARY:Open House for 8th & 9th Grades
DESCRIPTION:Open House at Charlie A Gray Junior High School for 8th & 9th grades.
X-ALT-DESC;FMTTYPE=text/html:Open House at Charlie A Gray Junior High School for 8th &amp\; 9th grades.
LOCATION:Charlie A Gray Junior High School\, 812 11th Ave NW\, Moultrie\, GA
UID:e.570.9354
SEQUENCE:3
DTSTAMP:20260426T032157Z
URL:http://business.moultriechamber.com/events/details/open-house-for-8th-9th-grades-9354
END:VEVENT

END:VCALENDAR
