BEGIN:VCALENDAR
VERSION:2.0
PRODID:-//ChamberMaster//Event Calendar 2.0//EN
METHOD:PUBLISH
X-PUBLISHED-TTL:P3D
REFRESH-INTERVAL:P3D
CALSCALE:GREGORIAN
BEGIN:VEVENT
DTSTART:20180802T190000Z
DTEND:20180802T220000Z
X-MICROSOFT-CDO-ALLDAYEVENT:FALSE
SUMMARY:Open House for 6th & 7th Grades
DESCRIPTION:Open House at Willie J Williams Middle School for 6th & 7th grades.
X-ALT-DESC;FMTTYPE=text/html:Open House at Willie J Williams Middle School for 6th &amp\; 7th grades.
LOCATION:Willie J Williams Middle School\, 950 4th Street SW\, Moultrie\, GA
UID:e.570.9353
SEQUENCE:3
DTSTAMP:20260426T032151Z
URL:http://business.moultriechamber.com/events/details/open-house-for-6th-7th-grades-9353
END:VEVENT

END:VCALENDAR
