BEGIN:VCALENDAR
VERSION:2.0
PRODID:-//ChamberMaster//Event Calendar 2.0//EN
METHOD:PUBLISH
X-PUBLISHED-TTL:P3D
REFRESH-INTERVAL:P3D
CALSCALE:GREGORIAN
BEGIN:VEVENT
DTSTART:20180802T190000Z
DTEND:20180802T220000Z
X-MICROSOFT-CDO-ALLDAYEVENT:FALSE
SUMMARY:Open House for 10th - 12th Grades
DESCRIPTION:Open House at the Colquitt County High School for 10th - 12th grades.
X-ALT-DESC;FMTTYPE=text/html:Open House at the Colquitt County High School for 10th - 12th grades.
LOCATION:Colquitt County High School\, 105 Darbyshire Road\, Norman Park\, GA
UID:e.570.9355
SEQUENCE:3
DTSTAMP:20260426T032151Z
URL:http://business.moultriechamber.com/events/details/open-house-for-10th-12th-grades-9355
END:VEVENT

END:VCALENDAR
