BEGIN:VCALENDAR
VERSION:2.0
PRODID:-//ChamberMaster//Event Calendar 2.0//EN
METHOD:PUBLISH
X-PUBLISHED-TTL:P3D
REFRESH-INTERVAL:P3D
CALSCALE:GREGORIAN
BEGIN:VEVENT
DTSTART:20210513T230000Z
DTEND:20210515T003000Z
X-MICROSOFT-CDO-ALLDAYEVENT:FALSE
SUMMARY:Once on this Island Performance
DESCRIPTION:Thursday & Friday\, May 13th & 14th: 7:00 pm Saturday & Sunday\, May 15th & 16th: 2:00 pm Tickets $10 Adults / $5 Children 12 Ti Moune\, a peasant girl\, rescues a wealthy boy from the other side of the island\, Daniel\, with whom she falls in love. Unbeknownst to Ti Moune\, the pompous gods who preside over the island make a bet with one another over which is stronger\, love or death\, the stakes being Ti Moune's life
X-ALT-DESC;FMTTYPE=text/html:Thursday &amp\; Friday\, May 13th &amp\; 14th: 7:00 pm Saturday &amp\; Sunday\, May 15th &amp\; 16th: 2:00 pm Tickets $10 Adults / $5 Children 12 Ti Moune\, a peasant girl\, rescues a wealthy boy from the other side of the island\, Daniel\, with whom she falls in love. Unbeknownst to Ti Moune\, the pompous gods who preside over the island make a bet with one another over which is stronger\, love or death\, the stakes being Ti Moune&rsquo\;s life
LOCATION:Colquitt County Arts Center 401 7th Avenue S.W. Moultrie\, GA 31768
UID:e.570.11406
SEQUENCE:3
DTSTAMP:20260424T090452Z
URL:http://business.moultriechamber.com/events/details/once-on-this-island-performance-11406
END:VEVENT

END:VCALENDAR
