BEGIN:VCALENDAR
VERSION:2.0
PRODID:-//ChamberMaster//Event Calendar 2.0//EN
METHOD:PUBLISH
X-PUBLISHED-TTL:P3D
REFRESH-INTERVAL:P3D
CALSCALE:GREGORIAN
BEGIN:VEVENT
DTSTART:20210219T213000Z
DTEND:20210219T233000Z
X-MICROSOFT-CDO-ALLDAYEVENT:FALSE
SUMMARY:Once on this Island Jr. Auditions
DESCRIPTION:Friday\, February 19th 4:30 pm   6:30 pm Grades K-12 Students auditioning for lead roles should be prepared with a 30-second song and be prepared for a cold reading from a script. Ti Moune\, a peasant girl\, rescues a wealthy boy from the other side of the island\, Daniel\, with whom she falls in love. Unbeknownst to Ti Moune\, the pompous gods who preside over the island make a bet with one another over which is stronger\, love or death\, the stakes being Ti Moune's life.
X-ALT-DESC;FMTTYPE=text/html:Friday\, February 19th 4:30 pm &ndash\; 6:30 pm Grades K-12 Students auditioning for lead roles should be prepared with a 30-second song and be prepared for a cold reading from a script. Ti Moune\, a peasant girl\, rescues a wealthy boy from the other side of the island\, Daniel\, with whom she falls in love. Unbeknownst to Ti Moune\, the pompous gods who preside over the island make a bet with one another over which is stronger\, love or death\, the stakes being Ti Moune&rsquo\;s life.
LOCATION:Colquitt County Arts Center 401 7th Avenue S.W. Moultrie\, GA 31768
UID:e.570.11290
SEQUENCE:3
DTSTAMP:20260424T124421Z
URL:http://business.moultriechamber.com/events/details/once-on-this-island-jr-auditions-11290
END:VEVENT

END:VCALENDAR
