BEGIN:VCALENDAR
VERSION:2.0
PRODID:-//ChamberMaster//Event Calendar 2.0//EN
METHOD:PUBLISH
X-PUBLISHED-TTL:P3D
REFRESH-INTERVAL:P3D
CALSCALE:GREGORIAN
BEGIN:VEVENT
DTSTART;VALUE=DATE:20190528
DTEND;VALUE=DATE:20190529
TRANSP:TRANSPARENT
X-MICROSOFT-CDO-ALLDAYEVENT:TRUE
SUMMARY:NW Pool Opening
DESCRIPTION:Pool wll be open from May 28th to July 27th
X-ALT-DESC;FMTTYPE=text/html:Pool wll be open from May 28th to July 27th
LOCATION:
UID:e.570.9551
SEQUENCE:3
DTSTAMP:20260425T153406Z
URL:http://business.moultriechamber.com/events/details/nw-pool-opening-9551
END:VEVENT

END:VCALENDAR
