BEGIN:VCALENDAR
VERSION:2.0
PRODID:-//ChamberMaster//Event Calendar 2.0//EN
METHOD:PUBLISH
X-PUBLISHED-TTL:P3D
REFRESH-INTERVAL:P3D
CALSCALE:GREGORIAN
BEGIN:VEVENT
DTSTART:20181031T150000Z
DTEND:20181031T210000Z
X-MICROSOFT-CDO-ALLDAYEVENT:FALSE
SUMMARY:No Tricks! All Treats
DESCRIPTION:Shop with participating businesses dressed in your costume and pick a "savings treat" from the pumpkin
X-ALT-DESC;FMTTYPE=text/html:Shop with participating businesses dressed in your costume and pick a &quot\;savings treat&quot\; from the pumpkin
LOCATION:Downtown Moultrie
UID:e.570.9447
SEQUENCE:3
DTSTAMP:20260426T004504Z
URL:http://business.moultriechamber.com/events/details/no-tricks-all-treats-9447
END:VEVENT

END:VCALENDAR
