BEGIN:VCALENDAR
VERSION:2.0
PRODID:-//ChamberMaster//Event Calendar 2.0//EN
METHOD:PUBLISH
X-PUBLISHED-TTL:P3D
REFRESH-INTERVAL:P3D
CALSCALE:GREGORIAN
BEGIN:VEVENT
DTSTART;VALUE=DATE:20210628
DTEND;VALUE=DATE:20210703
TRANSP:TRANSPARENT
X-MICROSOFT-CDO-ALLDAYEVENT:TRUE
SUMMARY:Ninja/Gymnastics Camp at The YMCA
DESCRIPTION:A fun filled time of obstacle courses\, strength training and games. The camp will be held outside\, in the basketball gym or in the gymnastics center. \n\n\n	Wear tennis shoes and bring a water bottle daily.
X-ALT-DESC;FMTTYPE=text/html:<p>A fun filled time of obstacle courses\, strength training and games. The camp will be held outside\, in the basketball gym or in the gymnastics center.&nbsp\;</p>\n\n<ul>\n	<li>Wear tennis shoes and bring a water bottle daily.&nbsp\;</li>\n</ul>\n
LOCATION:Moultrie YMCA
UID:e.570.11463
SEQUENCE:3
DTSTAMP:20260424T065142Z
URL:http://business.moultriechamber.com/events/details/ninja-gymnastics-camp-at-the-ymca-11463
END:VEVENT

END:VCALENDAR
