BEGIN:VCALENDAR
VERSION:2.0
PRODID:-//ChamberMaster//Event Calendar 2.0//EN
METHOD:PUBLISH
X-PUBLISHED-TTL:P3D
REFRESH-INTERVAL:P3D
CALSCALE:GREGORIAN
BEGIN:VEVENT
DTSTART:20210526T194500Z
DTEND:20210526T212000Z
X-MICROSOFT-CDO-ALLDAYEVENT:FALSE
SUMMARY:Night Owl Painting
DESCRIPTION:Enjoy illustration and painting with a Van Gogh-inspired background for a one-of-a-kind piece of art. Instructor Rio Davies All ages
X-ALT-DESC;FMTTYPE=text/html:Enjoy illustration and painting with a Van Gogh-inspired background for a one-of-a-kind piece of art. Instructor Rio Davies All ages
LOCATION:Colquitt County Arts Center 401 7th Avenue S.W. Moultrie\, GA 31768
UID:e.570.11396
SEQUENCE:3
DTSTAMP:20260424T102354Z
URL:http://business.moultriechamber.com/events/details/night-owl-painting-11396
END:VEVENT

END:VCALENDAR
