BEGIN:VCALENDAR
VERSION:2.0
PRODID:-//ChamberMaster//Event Calendar 2.0//EN
METHOD:PUBLISH
X-PUBLISHED-TTL:P3D
REFRESH-INTERVAL:P3D
CALSCALE:GREGORIAN
BEGIN:VEVENT
DTSTART:20200220T233000Z
DTEND:20200221T013000Z
X-MICROSOFT-CDO-ALLDAYEVENT:FALSE
SUMMARY:Night Out in Red
DESCRIPTION:Join us for a Night Out in Red as we celebrate National Heart Health Month! We will be serving heart-healthy hors d'oeuvres along with cocktails. Wear your best red ensemble and we will see you there!
X-ALT-DESC;FMTTYPE=text/html:Join us for a Night Out in Red as we celebrate National Heart Health Month! We will be serving heart-healthy hors d&#39\;oeuvres along with cocktails. Wear your best red ensemble and we will see you there!
LOCATION:Colquitt County Arts Center
UID:e.570.11136
SEQUENCE:3
DTSTAMP:20260425T040629Z
URL:http://business.moultriechamber.com/events/details/night-out-in-red-11136
END:VEVENT

END:VCALENDAR
