BEGIN:VCALENDAR
VERSION:2.0
PRODID:-//ChamberMaster//Event Calendar 2.0//EN
METHOD:PUBLISH
X-PUBLISHED-TTL:P3D
REFRESH-INTERVAL:P3D
CALSCALE:GREGORIAN
BEGIN:VEVENT
DTSTART:20190919T213000Z
DTEND:20190919T230000Z
X-MICROSOFT-CDO-ALLDAYEVENT:FALSE
SUMMARY:Night of the Living Dead Auditions
DESCRIPTION:NIGHT OF THE LIVING DEAD 16 & UP Auditions: Thursday\, September 19th 5:30 pm   7:00 pm Performances: Thursday\, November 14th Saturday\, November 16th Sunday\, November 17th Director: Kayla Watson Assistant Director: Michael Langston Fall out from a satellite probe shot to Venus returns to Earth carrying a mysterious radiation that transforms the unburied dead into flesh-eating zombies. Seven people trapped in an isolated farmhouse\, held hostage by the ravenous ghouls\, begin to turn on each other as the dead encroach. A gripping terror-filled monochromatic play that brings all the fright of the cult classic to life.
X-ALT-DESC;FMTTYPE=text/html:NIGHT OF THE LIVING DEAD 16 &amp\; UP Auditions: Thursday\, September 19th 5:30 pm &ndash\; 7:00 pm Performances: Thursday\, November 14th Saturday\, November 16th Sunday\, November 17th Director: Kayla Watson Assistant Director: Michael Langston Fall out from a satellite probe shot to Venus returns to Earth carrying a mysterious radiation that transforms the unburied dead into flesh-eating zombies. Seven people trapped in an isolated farmhouse\, held hostage by the ravenous ghouls\, begin to turn on each other as the dead encroach. A gripping terror-filled monochromatic play that brings all the fright of the cult classic to life.
LOCATION:Colquitt County Arts Center 401 7th Avenue S.W. Moultrie\, GA 31768
UID:e.570.9608
SEQUENCE:3
DTSTAMP:20260425T115056Z
URL:http://business.moultriechamber.com/events/details/night-of-the-living-dead-auditions-9608
END:VEVENT

END:VCALENDAR
