BEGIN:VCALENDAR
VERSION:2.0
PRODID:-//ChamberMaster//Event Calendar 2.0//EN
METHOD:PUBLISH
X-PUBLISHED-TTL:P3D
REFRESH-INTERVAL:P3D
CALSCALE:GREGORIAN
BEGIN:VEVENT
DTSTART:20190101T010000Z
DTEND:20190101T060000Z
X-MICROSOFT-CDO-ALLDAYEVENT:FALSE
SUMMARY:New Years Eve Party
DESCRIPTION:Come ring in the new year with us here at Ashburn Hill Plantation. We will have a DJ\, dancing\, food and fireworks! Tickets include a champagne toast at midnight with sliders and lots of other goodies. We can't wait to have you!
X-ALT-DESC;FMTTYPE=text/html:Come ring in the new year with us here at Ashburn Hill Plantation. We will have a DJ\, dancing\, food and fireworks! Tickets include a champagne toast at midnight with sliders and lots of other goodies. We can&#39\;t wait to have you!
LOCATION:Ashburn Hill Plantation
UID:e.570.9474
SEQUENCE:3
DTSTAMP:20260425T204445Z
URL:http://business.moultriechamber.com/events/details/new-years-eve-party-9474
END:VEVENT

END:VCALENDAR
