BEGIN:VCALENDAR
VERSION:2.0
PRODID:-//ChamberMaster//Event Calendar 2.0//EN
METHOD:PUBLISH
X-PUBLISHED-TTL:P3D
REFRESH-INTERVAL:P3D
CALSCALE:GREGORIAN
BEGIN:VEVENT
DTSTART:20180715T190000Z
DTEND:20180715T210000Z
X-MICROSOFT-CDO-ALLDAYEVENT:FALSE
SUMMARY:New Construction Open House
DESCRIPTION:You are invited to visit with us and view this beautiful new home in Moultrie's Sweetwater Subdivision. This open house is sponsored by Ameris Bank and all the wonderful furnishings are on display by Mobley Furniture and other Colquitt County Businesses. This new construction\, 4 bedroom/3-bath home features poplar hardwood floors throughout the main level\, open kitchen with granite countertops\, stainless steel appliances\, large master suite\, and much more. This home is a must see. \n\n\n\nFor any additional questions\, please contact Tori Fuller 229-921-4065
X-ALT-DESC;FMTTYPE=text/html:<span style="background-color:rgb(255\, 255\, 255)\; color:rgb(29\, 33\, 41)\; font-family:helvetica\,arial\,sans-serif\; font-size:14px">You are invited to visit with us and view this beautiful new home in Moultrie&#39\;s Sweetwater Subdivision. This open house is sponsored by Ameris Bank and all the wonderful furnishings are on display by Mobley Furniture and other Colquitt County Businesses. This new construction\, 4 bedroom/3-bath home features poplar hardwood floors throughout the main level\, open kitchen with granite countertops\, stainless steel appliances\, large master suite\, and much more. This home is a must see.&nbsp\;</span><br />\n<br />\n<span style="background-color:rgb(255\, 255\, 255)\; color:rgb(29\, 33\, 41)\; font-family:helvetica\,arial\,sans-serif\; font-size:14px">For any additional questions\, please contact Tori Fuller 229-921-4065</span>
LOCATION:200 Will Road Sweetwater Subdivision Moultrie\, Georgia
UID:e.570.9327
SEQUENCE:3
DTSTAMP:20260426T042657Z
URL:http://business.moultriechamber.com/events/details/new-construction-open-house-9327
END:VEVENT

END:VCALENDAR
