BEGIN:VCALENDAR
VERSION:2.0
PRODID:-//ChamberMaster//Event Calendar 2.0//EN
METHOD:PUBLISH
X-PUBLISHED-TTL:P3D
REFRESH-INTERVAL:P3D
CALSCALE:GREGORIAN
BEGIN:VEVENT
DTSTART:20181028T183000Z
DTEND:20181028T203000Z
X-MICROSOFT-CDO-ALLDAYEVENT:FALSE
SUMMARY:Nevermore - The Musical
DESCRIPTION:Dark and dazzling\, bizarre and beautiful\, Nevermore   The Imaginary Life and Mysterious Death of Edgar Allan Poe is a unique opera-like musical play about one of the world's most famous and fascinating writers. Through its use of stunning stagecraft\, underscored verse\, and haunting music. Nevermore blends fact and fiction to create a fascinating and moving theatrical experience that is difficult to describe\, but impossible to forget.
X-ALT-DESC;FMTTYPE=text/html:Dark and dazzling\, bizarre and beautiful\, Nevermore &ndash\; The Imaginary Life and Mysterious Death of Edgar Allan Poe is a unique opera-like musical play about one of the world&rsquo\;s most famous and fascinating writers. Through its use of stunning stagecraft\, underscored verse\, and haunting music. Nevermore blends fact and fiction to create a fascinating and moving theatrical experience that is difficult to describe\, but impossible to forget.
LOCATION:Colquitt County Arts Center\, 401 7th Avenue S.W.\, Moultrie\, GA 31768
UID:e.570.9424
SEQUENCE:3
DTSTAMP:20260426T015554Z
URL:http://business.moultriechamber.com/events/details/nevermore-the-musical-9424
END:VEVENT

END:VCALENDAR
