BEGIN:VCALENDAR
VERSION:2.0
PRODID:-//ChamberMaster//Event Calendar 2.0//EN
METHOD:PUBLISH
X-PUBLISHED-TTL:P3D
REFRESH-INTERVAL:P3D
CALSCALE:GREGORIAN
BEGIN:VEVENT
DTSTART:20180807T220000Z
DTEND:20180808T000000Z
X-MICROSOFT-CDO-ALLDAYEVENT:FALSE
SUMMARY:National Night Out
DESCRIPTION:Moultrie Police Department's annual crime awareness event!
X-ALT-DESC;FMTTYPE=text/html:Moultrie Police Department&#39\;s annual crime awareness event!
LOCATION:Jim Buff Goff Recreation Center\, 803 11th Ave SW\, Moultrie\, GA 31768
UID:e.570.9293
SEQUENCE:3
DTSTAMP:20260426T032233Z
URL:http://business.moultriechamber.com/events/details/national-night-out-9293
END:VEVENT

END:VCALENDAR
