BEGIN:VCALENDAR
VERSION:2.0
PRODID:-//ChamberMaster//Event Calendar 2.0//EN
METHOD:PUBLISH
X-PUBLISHED-TTL:P3D
REFRESH-INTERVAL:P3D
CALSCALE:GREGORIAN
BEGIN:VEVENT
DTSTART:20210805T213000Z
DTEND:20210805T233000Z
X-MICROSOFT-CDO-ALLDAYEVENT:FALSE
SUMMARY:NAMI Moultrie meeting
DESCRIPTION:NAMI Moultrie meets the first Monday of the month at 5:30 in the Fellowship Hall of First United Methodist Church on the corner of 2ndStreet and 5thAvenue SE.  Ample parking is available and the facility is handicap accessible.  Light refreshments are provided\, followed by an educational presentation.  Separate support groups for family members and individuals living with a diagnosis wrap up the evening.
X-ALT-DESC;FMTTYPE=text/html:<span style="font-family:georgia\,serif"><span style="font-size:12pt">NAMI Moultrie meets the first Monday of the month at 5:30 in the Fellowship Hall of First United Methodist Church on the corner of 2<sup>nd</sup>Street and 5<sup>th</sup>Avenue SE.&nbsp\;&nbsp\;Ample parking is available and the facility is handicap accessible.&nbsp\;&nbsp\;Light refreshments are provided\, followed by an educational presentation.&nbsp\;&nbsp\;Separate support groups for family members and individuals living with a diagnosis wrap up the evening.&nbsp\;&nbsp\;</span></span>
LOCATION:the Fellowship Hall of First United Methodist Church on the corner of 2ndStreet and 5thAvenue SE
UID:e.570.11471
SEQUENCE:3
DTSTAMP:20260424T065354Z
URL:http://business.moultriechamber.com/events/details/nami-moultrie-meeting-08-05-2021-11471
END:VEVENT

END:VCALENDAR
