BEGIN:VCALENDAR
VERSION:2.0
PRODID:-//ChamberMaster//Event Calendar 2.0//EN
METHOD:PUBLISH
X-PUBLISHED-TTL:P3D
REFRESH-INTERVAL:P3D
CALSCALE:GREGORIAN
BEGIN:VEVENT
DTSTART:20181103T230000Z
DTEND:20181104T010000Z
X-MICROSOFT-CDO-ALLDAYEVENT:FALSE
SUMMARY:Music Under the Magnolia
DESCRIPTION:Featuring "The Hawkins Band" and opening Performance by: John Pitts.
X-ALT-DESC;FMTTYPE=text/html:Featuring &quot\;The Hawkins Band&quot\; and opening Performance by: John Pitts.
LOCATION:Lewis Hill Amphitheater Downtown Moultrie
UID:e.570.9450
SEQUENCE:3
DTSTAMP:20260425T233009Z
URL:http://business.moultriechamber.com/events/details/music-under-the-magnolia-9450
END:VEVENT

END:VCALENDAR
