BEGIN:VCALENDAR
VERSION:2.0
PRODID:-//ChamberMaster//Event Calendar 2.0//EN
METHOD:PUBLISH
X-PUBLISHED-TTL:P3D
REFRESH-INTERVAL:P3D
CALSCALE:GREGORIAN
BEGIN:VEVENT
DTSTART:20210712T140000Z
DTEND:20210716T180000Z
X-MICROSOFT-CDO-ALLDAYEVENT:FALSE
SUMMARY:Ms. Leah's Art Camp:He-Man Club\, All About the Critters
DESCRIPTION:From clay to slime\, paint and dyes\, your boys will not want to miss this! Enjoy a week of crazy creativity as we explore all things creepy crawly. A different project every day. Deadline to sign up: Thursday\, July 8. All camps are for ages 3   8 Instructor: Leah Gaines
X-ALT-DESC;FMTTYPE=text/html:From clay to slime\, paint and dyes\, your boys will not want to miss this! Enjoy a week of crazy creativity as we explore all things creepy crawly. A different project every day. Deadline to sign up: Thursday\, July 8. All camps are for ages 3 &ndash\; 8 Instructor: Leah Gaines
LOCATION:Colquitt County Arts Center 401 7th Avenue S.W. Moultrie\, GA 31768
UID:e.570.11356
SEQUENCE:3
DTSTAMP:20260424T065850Z
URL:http://business.moultriechamber.com/events/details/ms-leah-s-art-camp-he-man-club-all-about-the-critters-11356
END:VEVENT

END:VCALENDAR
