BEGIN:VCALENDAR
VERSION:2.0
PRODID:-//ChamberMaster//Event Calendar 2.0//EN
METHOD:PUBLISH
X-PUBLISHED-TTL:P3D
REFRESH-INTERVAL:P3D
CALSCALE:GREGORIAN
BEGIN:VEVENT
DTSTART:20210705T140000Z
DTEND:20210709T180000Z
X-MICROSOFT-CDO-ALLDAYEVENT:FALSE
SUMMARY:Ms. Leah's Art Camp: Christmas in July
DESCRIPTION:This week is for everyone! Who wants to wait for December? We can celebrate Christmas in July! Each day we will use different mediums and techniques to create spectacular holiday-themed projects. Santa loves the sand too! Deadline to sign up: Thursday\, July 1. All camps are for ages 3   8 Instructor: Leah Gaines
X-ALT-DESC;FMTTYPE=text/html:This week is for everyone! Who wants to wait for December? We can celebrate Christmas in July! Each day we will use different mediums and techniques to create spectacular holiday-themed projects. Santa loves the sand too! Deadline to sign up: Thursday\, July 1. All camps are for ages 3 &ndash\; 8 Instructor: Leah Gaines
LOCATION:Colquitt County Arts Center 401 7th Avenue S.W. Moultrie\, GA 31768
UID:e.570.11355
SEQUENCE:3
DTSTAMP:20260424T065642Z
URL:http://business.moultriechamber.com/events/details/ms-leah-s-art-camp-christmas-in-july-11355
END:VEVENT

END:VCALENDAR
