BEGIN:VCALENDAR
VERSION:2.0
PRODID:-//ChamberMaster//Event Calendar 2.0//EN
METHOD:PUBLISH
X-PUBLISHED-TTL:P3D
REFRESH-INTERVAL:P3D
CALSCALE:GREGORIAN
BEGIN:VEVENT
DTSTART:20210608T020000Z
DTEND:20210611T180000Z
X-MICROSOFT-CDO-ALLDAYEVENT:FALSE
SUMMARY:Ms. Leah’s Art Camp
DESCRIPTION:Move over Van Gough ..art kids are here! This week is for everyone. Each day we will learn about a different artist and the techniques they are most famous for. You may be surprised what your little artist can do\, when we try these techniques ourselves. Deadline to sign up: Thursday\, June 3. All camps are for ages 3   8 Instructor: Leah Gaines
X-ALT-DESC;FMTTYPE=text/html:Move over Van Gough&hellip\;..art kids are here! This week is for everyone. Each day we will learn about a different artist and the techniques they are most famous for. You may be surprised what your little artist can do\, when we try these techniques ourselves. Deadline to sign up: Thursday\, June 3. All camps are for ages 3 &ndash\; 8 Instructor: Leah Gaines
LOCATION:Colquitt County Arts Center 401 7th Avenue S.W. Moultrie\, GA 31768
UID:e.570.11357
SEQUENCE:3
DTSTAMP:20260424T075703Z
URL:http://business.moultriechamber.com/events/details/ms-leah-s-art-camp-11357
END:VEVENT

END:VCALENDAR
