BEGIN:VCALENDAR
VERSION:2.0
PRODID:-//ChamberMaster//Event Calendar 2.0//EN
METHOD:PUBLISH
X-PUBLISHED-TTL:P3D
REFRESH-INTERVAL:P3D
CALSCALE:GREGORIAN
BEGIN:VEVENT
DTSTART:20240626T143000Z
DTEND:20240626T160000Z
X-MICROSOFT-CDO-ALLDAYEVENT:FALSE
SUMMARY:Movie & Popcorn @ the Library
DESCRIPTION:Enjoy family movies on the big screen with hot\, delicious popcorn. June 26: Paw Patrol (92 min/PG)
X-ALT-DESC;FMTTYPE=text/html:Enjoy family movies on the big screen with hot\, delicious popcorn. June 26: Paw Patrol (92 min/PG)
LOCATION:Moultrie- Colquitt County Library 204 5th St SE\, Moultrie\, GA
UID:e.570.13277
SEQUENCE:3
DTSTAMP:20260422T132620Z
URL:http://business.moultriechamber.com/events/details/movie-popcorn-the-library-06-26-2024-13277
END:VEVENT

END:VCALENDAR
