BEGIN:VCALENDAR
VERSION:2.0
PRODID:-//ChamberMaster//Event Calendar 2.0//EN
METHOD:PUBLISH
X-PUBLISHED-TTL:P3D
REFRESH-INTERVAL:P3D
CALSCALE:GREGORIAN
BEGIN:VEVENT
DTSTART:20201031T190000Z
DTEND:20201031T210000Z
X-MICROSOFT-CDO-ALLDAYEVENT:FALSE
SUMMARY:Moultrie Police Department Drive-Thru Trick-or-Treat
DESCRIPTION:Drive-Thru Trick-or-Treat
X-ALT-DESC;FMTTYPE=text/html:Drive-Thru Trick-or-Treat
LOCATION:
UID:e.570.11199
SEQUENCE:3
DTSTAMP:20260424T081618Z
URL:http://business.moultriechamber.com/events/details/moultrie-police-department-drive-thru-trick-or-treat-11199
END:VEVENT

END:VCALENDAR
