BEGIN:VCALENDAR
VERSION:2.0
PRODID:-//ChamberMaster//Event Calendar 2.0//EN
METHOD:PUBLISH
X-PUBLISHED-TTL:P3D
REFRESH-INTERVAL:P3D
CALSCALE:GREGORIAN
BEGIN:VEVENT
DTSTART:20210508T163000Z
DTEND:20210508T180000Z
X-MICROSOFT-CDO-ALLDAYEVENT:FALSE
SUMMARY:Moultrie Federated Guild Downtown Event
DESCRIPTION:Moultrie Federated Guild will be hosting an event to honor local artist\, Randy Gibbs\, by presenting the winner of the online auction of his watercolor print entitled "Yellow Bellied Slider" (which is now being auctioned online by Weeks Auction Group". The winner of the essay contest about "Papa's Pond" will also be announced and raffle prizes will be given away. Bobbie & Mickey Key\, Scott Graham and Daniel Dunn will provide music as well.
X-ALT-DESC;FMTTYPE=text/html:Moultrie Federated Guild will be hosting an event to honor local artist\, Randy Gibbs\, by presenting the winner of the online auction of his watercolor print entitled &quot\;Yellow Bellied Slider&quot\; (which is now being auctioned online by Weeks Auction Group&quot\;. The winner of the essay contest about &quot\;Papa&#39\;s Pond&quot\; will also be announced and raffle prizes will be given away. Bobbie &amp\; Mickey Key\, Scott Graham and Daniel Dunn will provide music as well.
LOCATION:Downtown Moultrie at the Amphitheater on the Square.
UID:e.570.11415
SEQUENCE:3
DTSTAMP:20260424T090850Z
URL:http://business.moultriechamber.com/events/details/moultrie-federated-guild-downtown-event-11415
END:VEVENT

END:VCALENDAR
