BEGIN:VCALENDAR
VERSION:2.0
PRODID:-//ChamberMaster//Event Calendar 2.0//EN
METHOD:PUBLISH
X-PUBLISHED-TTL:P3D
REFRESH-INTERVAL:P3D
CALSCALE:GREGORIAN
BEGIN:VEVENT
DTSTART:20190110T160000Z
DTEND:20190110T170000Z
X-MICROSOFT-CDO-ALLDAYEVENT:FALSE
SUMMARY:Moultrie-Colquitt County Chamber of Commerce Workforce Committee Meeting
DESCRIPTION:Our Workforce Committee works alongside our local education system\, technical schools\, colleges\, employers\, Chamber members\, and the community to assist with the career preparation needs of students and the workforce development needs of employers. The Workforce Development Committee has three goals: 1) To increase the quality and number of skilled labor available to Chamber members and other employers in the community\, 2) To increase the likelihood that students graduate from high school with a marketplace skill and/or are prepared to enter post-secondary education\, 3) To assure that quality and accessible professional development opportunities are available for Chamber members.
X-ALT-DESC;FMTTYPE=text/html:Our Workforce Committee works alongside our local education system\, technical schools\, colleges\, employers\, Chamber members\, and the community to assist with the career preparation needs of students and the workforce development needs of employers. The Workforce Development Committee has three goals: 1) To increase the quality and number of skilled labor available to Chamber members and other employers in the community\, 2) To increase the likelihood that students graduate from high school with a marketplace skill and/or are prepared to enter post-secondary education\, 3) To assure that quality and accessible professional development opportunities are available for Chamber members.
LOCATION:Moultrie-Colquitt County Chamber of Commerce\, 2nd Floor
UID:e.570.9192
SEQUENCE:3
DTSTAMP:20260425T204639Z
URL:http://business.moultriechamber.com/events/details/moultrie-colquitt-county-chamber-of-commerce-workforce-committee-meeting-01-10-2019-9192
END:VEVENT

END:VCALENDAR
