BEGIN:VCALENDAR
VERSION:2.0
PRODID:-//ChamberMaster//Event Calendar 2.0//EN
METHOD:PUBLISH
X-PUBLISHED-TTL:P3D
REFRESH-INTERVAL:P3D
CALSCALE:GREGORIAN
BEGIN:VEVENT
DTSTART:20181128T170000Z
DTEND:20181128T183000Z
X-MICROSOFT-CDO-ALLDAYEVENT:FALSE
SUMMARY:Moultrie-Colquitt County Chamber of Commerce Ag: Harvest Celebration
DESCRIPTION:
X-ALT-DESC;FMTTYPE=text/html:
LOCATION:
UID:e.570.9428
SEQUENCE:3
DTSTAMP:20260425T233740Z
URL:http://business.moultriechamber.com/events/details/moultrie-colquitt-county-chamber-of-commerce-ag-harvest-celebration-9428
END:VEVENT

END:VCALENDAR
