BEGIN:VCALENDAR
VERSION:2.0
PRODID:-//ChamberMaster//Event Calendar 2.0//EN
METHOD:PUBLISH
X-PUBLISHED-TTL:P3D
REFRESH-INTERVAL:P3D
CALSCALE:GREGORIAN
BEGIN:VEVENT
DTSTART:20210424T133000Z
DTEND:20210424T160000Z
X-MICROSOFT-CDO-ALLDAYEVENT:FALSE
SUMMARY:Mother Son Nerf War
DESCRIPTION:1st Annual Mother-Son Nerf War Fundraiser benefiting Colquitt County Serenity House. All proceeds will go to provide temporary\, emergency shelter and support services for victims of domestic/family violence.
X-ALT-DESC;FMTTYPE=text/html:1st Annual Mother-Son Nerf War Fundraiser benefiting Colquitt County Serenity House. All proceeds will go to provide temporary\, emergency shelter and support services for victims of domestic/family violence.
LOCATION:Jim Buck Goff Rec Complex
UID:e.570.11343
SEQUENCE:3
DTSTAMP:20260424T112441Z
URL:http://business.moultriechamber.com/events/details/mother-son-nerf-war-11343
END:VEVENT

END:VCALENDAR
