BEGIN:VCALENDAR
VERSION:2.0
PRODID:-//ChamberMaster//Event Calendar 2.0//EN
METHOD:PUBLISH
X-PUBLISHED-TTL:P3D
REFRESH-INTERVAL:P3D
CALSCALE:GREGORIAN
BEGIN:VEVENT
DTSTART:20220430T133000Z
DTEND:20220430T160000Z
X-MICROSOFT-CDO-ALLDAYEVENT:FALSE
SUMMARY:Mother Son Nerf War
DESCRIPTION:Serenity House\, in partnership with MCCPRA\, will be hosting its 2nd annual Mother Son Nerf War. All proceeds will benefit domestic violence survivors through services offered at the shelter.
X-ALT-DESC;FMTTYPE=text/html:Serenity House\, in partnership with MCCPRA\, will be hosting its 2nd annual Mother Son Nerf War. All proceeds will benefit domestic violence survivors through services offered at the shelter.
LOCATION:Tommy Meredith Gym
UID:e.570.12016
SEQUENCE:3
DTSTAMP:20260423T204723Z
URL:http://business.moultriechamber.com/events/details/mother-son-nerf-war-04-30-2022-12016
END:VEVENT

END:VCALENDAR
