BEGIN:VCALENDAR
VERSION:2.0
PRODID:-//ChamberMaster//Event Calendar 2.0//EN
METHOD:PUBLISH
X-PUBLISHED-TTL:P3D
REFRESH-INTERVAL:P3D
CALSCALE:GREGORIAN
BEGIN:VEVENT
DTSTART:20220507T140000Z
DTEND:20220507T150000Z
X-MICROSOFT-CDO-ALLDAYEVENT:FALSE
SUMMARY:Mother's Day Yoga
DESCRIPTION:Enjoy Mother's Day Yoga at Better Half Farm. Receive a $5 coupon and use it on a bouquet for Mother's Day.
X-ALT-DESC;FMTTYPE=text/html:Enjoy Mother&#39\;s Day Yoga at Better Half Farm. Receive a $5 coupon and use it on a bouquet for Mother&#39\;s Day.
LOCATION:Better Half Farm
UID:e.570.12081
SEQUENCE:3
DTSTAMP:20260423T182100Z
URL:http://business.moultriechamber.com/events/details/mother-s-day-yoga-12081
END:VEVENT

END:VCALENDAR
