BEGIN:VCALENDAR
VERSION:2.0
PRODID:-//ChamberMaster//Event Calendar 2.0//EN
METHOD:PUBLISH
X-PUBLISHED-TTL:P3D
REFRESH-INTERVAL:P3D
CALSCALE:GREGORIAN
BEGIN:VEVENT
DTSTART:20181003T140000Z
DTEND:20181004T170000Z
X-MICROSOFT-CDO-ALLDAYEVENT:FALSE
SUMMARY:Mosaic Flower Pot
DESCRIPTION:You will receive instruction and technique to cover an 11 inch flower pot. All supplies provided. Two part workshop. Instructor Kathy Nelson
X-ALT-DESC;FMTTYPE=text/html:You will receive instruction and technique to cover an 11 inch flower pot. All supplies provided. Two part workshop. Instructor Kathy Nelson
LOCATION:Colquitt County Arts Center\, 401 7th Avenue S.W.\, Moultrie\, GA 31768
UID:e.570.9413
SEQUENCE:3
DTSTAMP:20260426T015934Z
URL:http://business.moultriechamber.com/events/details/mosaic-flower-pot-9413
END:VEVENT

END:VCALENDAR
