BEGIN:VCALENDAR
VERSION:2.0
PRODID:-//ChamberMaster//Event Calendar 2.0//EN
METHOD:PUBLISH
X-PUBLISHED-TTL:P3D
REFRESH-INTERVAL:P3D
CALSCALE:GREGORIAN
BEGIN:VEVENT
DTSTART:20190504T110000Z
DTEND:20190504T170000Z
X-MICROSOFT-CDO-ALLDAYEVENT:FALSE
SUMMARY:Moody Mud Run
DESCRIPTION:Come enjoy a mud run with fun obstacles! There is a children's course and an adult course.
X-ALT-DESC;FMTTYPE=text/html:Come enjoy a mud run with fun obstacles! There is a children&#39\;s course and an adult course.
LOCATION:Possum Creek
UID:e.570.9523
SEQUENCE:3
DTSTAMP:20260425T152837Z
URL:http://business.moultriechamber.com/events/details/moody-mud-run-9523
END:VEVENT

END:VCALENDAR
