BEGIN:VCALENDAR
VERSION:2.0
PRODID:-//ChamberMaster//Event Calendar 2.0//EN
METHOD:PUBLISH
X-PUBLISHED-TTL:P3D
REFRESH-INTERVAL:P3D
CALSCALE:GREGORIAN
BEGIN:VEVENT
DTSTART:20220131T210000Z
DTEND:20220131T224000Z
X-MICROSOFT-CDO-ALLDAYEVENT:FALSE
SUMMARY:Monday Movie Matinee
DESCRIPTION:Enjoy free snacks while you watch Pokemon Detective Pikachu on the big screen. PG\, 104 min.
X-ALT-DESC;FMTTYPE=text/html:Enjoy free snacks while you watch Pokemon Detective Pikachu on the big screen. PG\, 104 min.
LOCATION:Moultrie-Colquitt Library System 504 5th Street\, SE Moultrie\, Ga
UID:e.570.11975
SEQUENCE:3
DTSTAMP:20260423T230823Z
URL:http://business.moultriechamber.com/events/details/monday-movie-matinee-11975
END:VEVENT

END:VCALENDAR
