BEGIN:VCALENDAR
VERSION:2.0
PRODID:-//ChamberMaster//Event Calendar 2.0//EN
METHOD:PUBLISH
X-PUBLISHED-TTL:P3D
REFRESH-INTERVAL:P3D
CALSCALE:GREGORIAN
BEGIN:VEVENT
DTSTART:20220328T200000Z
DTEND:20220328T213000Z
X-MICROSOFT-CDO-ALLDAYEVENT:FALSE
SUMMARY:Monday Monday Matinee
DESCRIPTION:Enjoy free snacks while you watch "Scoob!" on the big screen. PG - 93 minutes
X-ALT-DESC;FMTTYPE=text/html:Enjoy free snacks while you watch &quot\;Scoob!&quot\; on the big screen. PG - 93 minutes
LOCATION:Moultrie-Colquitt Library System 504 5th Street\, SE Moultrie\, Ga.
UID:e.570.12000
SEQUENCE:3
DTSTAMP:20260423T205025Z
URL:http://business.moultriechamber.com/events/details/monday-monday-matinee-12000
END:VEVENT

END:VCALENDAR
