BEGIN:VCALENDAR
VERSION:2.0
PRODID:-//ChamberMaster//Event Calendar 2.0//EN
METHOD:PUBLISH
X-PUBLISHED-TTL:P3D
REFRESH-INTERVAL:P3D
CALSCALE:GREGORIAN
BEGIN:VEVENT
DTSTART:20220228T210000Z
DTEND:20220228T223000Z
X-MICROSOFT-CDO-ALLDAYEVENT:FALSE
SUMMARY:Monday Matinee
DESCRIPTION:Enjoy free snacks while you watch "Peanuts" on the big screen. G - 88 minutes
X-ALT-DESC;FMTTYPE=text/html:Enjoy free snacks while you watch &quot\;Peanuts&quot\; on the big screen. G - 88 minutes
LOCATION:Moultrie-Colquitt Library System 504 5th Street\, SE Moultrie\, Ga.
UID:e.570.11999
SEQUENCE:3
DTSTAMP:20260423T230524Z
URL:http://business.moultriechamber.com/events/details/monday-matinee-11999
END:VEVENT

END:VCALENDAR
