BEGIN:VCALENDAR
VERSION:2.0
PRODID:-//ChamberMaster//Event Calendar 2.0//EN
METHOD:PUBLISH
X-PUBLISHED-TTL:P3D
REFRESH-INTERVAL:P3D
CALSCALE:GREGORIAN
BEGIN:VEVENT
DTSTART:20210507T220000Z
DTEND:20210508T003000Z
X-MICROSOFT-CDO-ALLDAYEVENT:FALSE
SUMMARY:Mom & Son Survival Night
DESCRIPTION:Moms and their PreK4-5th Grade sons are invited to join us for our annual Mom & Son Survival Night! Previous years have included nerf gun battles\, an Amazing Race throughout parts of the church campus\, lots of pizza\, and so much more. Come to find out what this year has in store. Register today at firstmoultrie.org/mom-son-survival.
X-ALT-DESC;FMTTYPE=text/html:Moms and their PreK4-5th Grade sons are invited to join us for our annual Mom &amp\; Son Survival Night! Previous years have included nerf gun battles\, an Amazing Race throughout parts of the church campus\, lots of pizza\, and so much more. Come to find out what this year has in store. Register today at firstmoultrie.org/mom-son-survival.
LOCATION:First Baptist Church of Moultrie 400 S Main Street\, Moultrie\, GA 31768
UID:e.570.11408
SEQUENCE:3
DTSTAMP:20260424T090738Z
URL:http://business.moultriechamber.com/events/details/mom-son-survival-night-11408
END:VEVENT

END:VCALENDAR
