BEGIN:VCALENDAR
VERSION:2.0
PRODID:-//ChamberMaster//Event Calendar 2.0//EN
METHOD:PUBLISH
X-PUBLISHED-TTL:P3D
REFRESH-INTERVAL:P3D
CALSCALE:GREGORIAN
BEGIN:VEVENT
DTSTART:20180717T180000Z
DTEND:20180717T190000Z
X-MICROSOFT-CDO-ALLDAYEVENT:FALSE
SUMMARY:Minute to Win It
DESCRIPTION:This event will challenge kids ages 4 -11 to beat their friends with zany challenges that must be completed in a minute. How much can you do in a minute? Join us in the library to find out.
X-ALT-DESC;FMTTYPE=text/html:This event will challenge kids ages 4 -11 to beat their friends with zany challenges that must be completed in a minute. How much can you do in a minute? Join us in the library to find out.
LOCATION:Moultrie Library\, (Temporary Location) 225 S. Main St\, Moultrie
UID:e.570.9324
SEQUENCE:3
DTSTAMP:20260426T043250Z
URL:http://business.moultriechamber.com/events/details/minute-to-win-it-07-17-2018-9324
END:VEVENT

END:VCALENDAR
